BEGIN:VCALENDAR
VERSION:2.0
PRODID:-//Tukios.com/
BEGIN:VEVENT
UID:a695636d-b97d-4189-af6e-e7f798145fd6@www.jonesclarkfuneralhome.com
DTSTAMP:20260420T230443Z
DTSTART:20260424T160000Z
DTEND:20260424T170000Z
SUMMARY:Funeral Service
DESCRIPTION:
URL:https://www.jonesclarkfuneralhome.com/obituaries/martha-harris
LOCATION: 1302 Oakland Pkwy  Lima OH 45805
GEO:40.7430064;-84.1296087
END:VEVENT
END:VCALENDAR