BEGIN:VCALENDAR
VERSION:2.0
PRODID:-//Tukios.com/
BEGIN:VEVENT
UID:6e42d16d-d3a1-496e-908e-476ec793ebaf@www.jonesclarkfuneralhome.com
DTSTAMP:20260420T230443Z
DTSTART:20260424T140000Z
DTEND:20260424T160000Z
SUMMARY:Viewing
DESCRIPTION:
URL:https://www.jonesclarkfuneralhome.com/obituaries/martha-harris
LOCATION: 1302 Oakland Pkwy  Lima OH 45805
GEO:40.7430064;-84.1296087
END:VEVENT
END:VCALENDAR