BEGIN:VCALENDAR
VERSION:2.0
PRODID:-//Tukios.com/
BEGIN:VEVENT
UID:5619ba4d-2974-47b1-a24b-8fdb915e8b5f@www.jonesclarkfuneralhome.com
DTSTAMP:20260423T101646Z
DTSTART:20260427T160000Z
DTEND:20260427T170000Z
SUMMARY:Funeral Service
DESCRIPTION:
URL:https://www.jonesclarkfuneralhome.com/obituaries/lovie-dillingham
LOCATION: 1302 Oakland Pkwy  Lima OH 45805
GEO:40.7430064;-84.1296087
END:VEVENT
END:VCALENDAR