BEGIN:VCALENDAR
VERSION:2.0
PRODID:-//Tukios.com/
BEGIN:VEVENT
UID:9687242a-9153-4368-9ad2-491094a2576b@www.jonesclarkfuneralhome.com
DTSTAMP:20260423T101217Z
DTSTART:20260427T140000Z
DTEND:20260427T150000Z
SUMMARY:Visitation
DESCRIPTION:
URL:https://www.jonesclarkfuneralhome.com/obituaries/lovie-dillingham
LOCATION: 1302 Oakland Pkwy  Lima OH 45805
GEO:40.7430064;-84.1296087
END:VEVENT
END:VCALENDAR