BEGIN:VCALENDAR
VERSION:2.0
PRODID:-//Tukios.com/
BEGIN:VEVENT
UID:f18c3b2c-ff0a-4f71-8636-3bfeea489bf9@www.jonesclarkfuneralhome.com
DTSTAMP:20260421T231051Z
DTSTART:20260502T143000Z
DTEND:20260502T153000Z
SUMMARY:Funeral Service
DESCRIPTION:
URL:https://www.jonesclarkfuneralhome.com/obituaries/kathey-smith
LOCATION: 190 East 8th Street  Lima OH 45804
GEO:40.7114741;-84.103663
END:VEVENT
END:VCALENDAR