BEGIN:VCALENDAR
VERSION:2.0
PRODID:-//Tukios.com/
BEGIN:VEVENT
UID:43b6cccf-5afb-4911-af7a-5fcb07751b9b@www.jonesclarkfuneralhome.com
DTSTAMP:20260421T083859Z
DTSTART:20260421T160000Z
DTEND:20260421T170000Z
SUMMARY:Funeral Service
DESCRIPTION:
URL:https://www.jonesclarkfuneralhome.com/obituaries/clara-bankston-mcdaniel
LOCATION: 122 West 4th Street  Lima OH 45804
GEO:40.7171425;-84.1066162
END:VEVENT
END:VCALENDAR