BEGIN:VCALENDAR
VERSION:2.0
PRODID:-//Tukios.com/
BEGIN:VEVENT
UID:29cb0443-261a-4bbe-948a-f4f2927a436a@www.jonesclarkfuneralhome.com
DTSTAMP:20260421T083452Z
DTSTART:20260421T140000Z
DTEND:20260421T160000Z
SUMMARY:Visitation
DESCRIPTION:
URL:https://www.jonesclarkfuneralhome.com/obituaries/clara-bankston-mcdaniel
LOCATION: 122 West 4th Street  Lima OH 45804
GEO:40.7171425;-84.1066162
END:VEVENT
END:VCALENDAR