BEGIN:VCALENDAR
VERSION:2.0
PRODID:-//Tukios.com/
BEGIN:VEVENT
UID:164fb488-a878-4b02-85db-00aa0afacc87@www.jonesclarkfuneralhome.com
DTSTAMP:20260422T174047Z
DTSTART:20260425T140000Z
DTEND:20260425T150000Z
SUMMARY:Funeral Service
DESCRIPTION:
URL:https://www.jonesclarkfuneralhome.com/obituaries/bruno-vallon
LOCATION:Jones Clark Funeral Home Chapel 1302 Oakland Parkway  Lima OH 
	45805
GEO:40.7430064;-84.1296087
END:VEVENT
END:VCALENDAR